BEGIN:VCALENDAR
VERSION:2.0
PRODID:-//St. Athanasius Episcopal Church - ECPv6.15.20//NONSGML v1.0//EN
CALSCALE:GREGORIAN
METHOD:PUBLISH
X-ORIGINAL-URL:https://saintala.org
X-WR-CALDESC:Events for St. Athanasius Episcopal Church
REFRESH-INTERVAL;VALUE=DURATION:PT1H
X-Robots-Tag:noindex
X-PUBLISHED-TTL:PT1H
BEGIN:VTIMEZONE
TZID:America/Los_Angeles
BEGIN:DAYLIGHT
TZOFFSETFROM:-0800
TZOFFSETTO:-0700
TZNAME:PDT
DTSTART:20240310T100000
END:DAYLIGHT
BEGIN:STANDARD
TZOFFSETFROM:-0700
TZOFFSETTO:-0800
TZNAME:PST
DTSTART:20241103T090000
END:STANDARD
BEGIN:DAYLIGHT
TZOFFSETFROM:-0800
TZOFFSETTO:-0700
TZNAME:PDT
DTSTART:20250309T100000
END:DAYLIGHT
BEGIN:STANDARD
TZOFFSETFROM:-0700
TZOFFSETTO:-0800
TZNAME:PST
DTSTART:20251102T090000
END:STANDARD
BEGIN:DAYLIGHT
TZOFFSETFROM:-0800
TZOFFSETTO:-0700
TZNAME:PDT
DTSTART:20260308T100000
END:DAYLIGHT
BEGIN:STANDARD
TZOFFSETFROM:-0700
TZOFFSETTO:-0800
TZNAME:PST
DTSTART:20261101T090000
END:STANDARD
END:VTIMEZONE
BEGIN:VEVENT
DTSTART;TZID=America/Los_Angeles:20251102T090000
DTEND;TZID=America/Los_Angeles:20251102T120000
DTSTAMP:20260419T092052
CREATED:20250820T212415Z
LAST-MODIFIED:20250820T212415Z
UID:1863-1762074000-1762084800@saintala.org
SUMMARY:Vigésimo primer domingo después de Pentecostés
DESCRIPTION:Únase a nosotros para la Eucaristía y la hora social después del servicio. El Rdo. John Watson\, Sacerdote a cargo.
URL:https://saintala.org/event/vigesimo-primer-domingo-despues-de-pentecostes-2/
LOCATION:St. Athanasius Church\, Echo Park\, 840 Echo Park Ave.\, Los Angeles\, CA\, 90026\, United States
CATEGORIES:Pentecost,Sunday Services
END:VEVENT
BEGIN:VEVENT
DTSTART;TZID=America/Los_Angeles:20251102T110000
DTEND;TZID=America/Los_Angeles:20251102T130000
DTSTAMP:20260419T092052
CREATED:20250820T212508Z
LAST-MODIFIED:20250820T212508Z
UID:1865-1762081200-1762088400@saintala.org
SUMMARY:Twenty-first Sunday after Pentecost
DESCRIPTION:Join us for Eucharist and social hour following the service. The Rev. John Watson\, Priest-in-Charge.
URL:https://saintala.org/event/twenty-first-sunday-after-pentecost/
LOCATION:St. Athanasius Church\, Echo Park\, 840 Echo Park Ave.\, Los Angeles\, CA\, 90026\, United States
CATEGORIES:Pentecost,Sunday Services
END:VEVENT
BEGIN:VEVENT
DTSTART;TZID=America/Los_Angeles:20251109T090000
DTEND;TZID=America/Los_Angeles:20251109T120000
DTSTAMP:20260419T092052
CREATED:20250820T212603Z
LAST-MODIFIED:20250820T212603Z
UID:1867-1762678800-1762689600@saintala.org
SUMMARY:Vigésimo segundo domingo después de Pentecostés
DESCRIPTION:Únase a nosotros para la Eucaristía y la hora social después del servicio. El Rdo. John Watson\, Sacerdote a cargo.
URL:https://saintala.org/event/vigesimo-segundo-domingo-despues-de-pentecostes-2/
LOCATION:St. Athanasius Church\, Echo Park\, 840 Echo Park Ave.\, Los Angeles\, CA\, 90026\, United States
CATEGORIES:Pentecost,Sunday Services
END:VEVENT
BEGIN:VEVENT
DTSTART;TZID=America/Los_Angeles:20251109T110000
DTEND;TZID=America/Los_Angeles:20251109T130000
DTSTAMP:20260419T092052
CREATED:20250820T213701Z
LAST-MODIFIED:20250820T213701Z
UID:1879-1762686000-1762693200@saintala.org
SUMMARY:Twenty-second Sunday after Pentecost
DESCRIPTION:Join us for Eucharist and social hour following the service. The Rev. John Watson\, Priest-in-Charge.
URL:https://saintala.org/event/twenty-second-sunday-after-pentecost/
LOCATION:St. Athanasius Church\, Echo Park\, 840 Echo Park Ave.\, Los Angeles\, CA\, 90026\, United States
CATEGORIES:Pentecost,Sunday Services
END:VEVENT
BEGIN:VEVENT
DTSTART;TZID=America/Los_Angeles:20251116T090000
DTEND;TZID=America/Los_Angeles:20251116T120000
DTSTAMP:20260419T092052
CREATED:20250820T212808Z
LAST-MODIFIED:20250820T212808Z
UID:1871-1763283600-1763294400@saintala.org
SUMMARY:Vigésimo tercer domingo después de Pentecostés
DESCRIPTION:Únase a nosotros para la Eucaristía y la hora social después del servicio. El Rdo. John Watson\, Sacerdote a cargo.
URL:https://saintala.org/event/vigesimo-tercer-domingo-despues-de-pentecostes-2/
LOCATION:St. Athanasius Church\, Echo Park\, 840 Echo Park Ave.\, Los Angeles\, CA\, 90026\, United States
CATEGORIES:Pentecost,Sunday Services
END:VEVENT
BEGIN:VEVENT
DTSTART;TZID=America/Los_Angeles:20251116T110000
DTEND;TZID=America/Los_Angeles:20251116T130000
DTSTAMP:20260419T092052
CREATED:20250820T212902Z
LAST-MODIFIED:20250820T212902Z
UID:1873-1763290800-1763298000@saintala.org
SUMMARY:Twenty-third Sunday after Pentecost
DESCRIPTION:Join us for Eucharist and social hour following the service. The Rev. John Watson\, Priest-in-Charge.
URL:https://saintala.org/event/twenty-third-sunday-after-pentecost/
LOCATION:St. Athanasius Church\, Echo Park\, 840 Echo Park Ave.\, Los Angeles\, CA\, 90026\, United States
CATEGORIES:Pentecost,Sunday Services
END:VEVENT
BEGIN:VEVENT
DTSTART;TZID=America/Los_Angeles:20251123T090000
DTEND;TZID=America/Los_Angeles:20251123T120000
DTSTAMP:20260419T092052
CREATED:20250820T213015Z
LAST-MODIFIED:20250820T214925Z
UID:1875-1763888400-1763899200@saintala.org
SUMMARY:Último domingo después de Pentecostés: Cristo Rey
DESCRIPTION:Únase a nosotros para la Eucaristía y la hora social después del servicio. El Rdo. John Watson\, Sacerdote a cargo.
URL:https://saintala.org/event/ultimo-domingo-despues-de-pentecostes-cristo-rey/
LOCATION:St. Athanasius Church\, Echo Park\, 840 Echo Park Ave.\, Los Angeles\, CA\, 90026\, United States
CATEGORIES:Pentecost,Sunday Services
ATTACH;FMTTYPE=image/png:https://saintala.org/wp-content/uploads/2023/11/Christ-the-King-Sunday-300.png
END:VEVENT
BEGIN:VEVENT
DTSTART;TZID=America/Los_Angeles:20251123T110000
DTEND;TZID=America/Los_Angeles:20251123T130000
DTSTAMP:20260419T092052
CREATED:20250820T213141Z
LAST-MODIFIED:20250820T214958Z
UID:1877-1763895600-1763902800@saintala.org
SUMMARY:Last Sunday after Pentecost: Christ the King
DESCRIPTION:Join us for Eucharist and social hour following the service. The Rev. John Watson\, Priest-in-Charge.
URL:https://saintala.org/event/last-sunday-after-pentecost-christ-the-king/
LOCATION:St. Athanasius Church\, Echo Park\, 840 Echo Park Ave.\, Los Angeles\, CA\, 90026\, United States
CATEGORIES:Pentecost,Sunday Services
ATTACH;FMTTYPE=image/png:https://saintala.org/wp-content/uploads/2023/11/Christ-the-King-Sunday-300.png
END:VEVENT
BEGIN:VEVENT
DTSTART;TZID=America/Los_Angeles:20251130T090000
DTEND;TZID=America/Los_Angeles:20251130T120000
DTSTAMP:20260419T092052
CREATED:20251123T202939Z
LAST-MODIFIED:20251123T202939Z
UID:1925-1764493200-1764504000@saintala.org
SUMMARY:Primer Domingo de Adviento
DESCRIPTION:Únase a nosotros para la Eucaristía y la hora social después del servicio. El Rdo. John Watson\, Sacerdote a cargo.
URL:https://saintala.org/event/primer-domingo-de-adviento-2/
LOCATION:St. Athanasius Church\, Echo Park\, 840 Echo Park Ave.\, Los Angeles\, CA\, 90026\, United States
CATEGORIES:Advent,Sunday Services
ATTACH;FMTTYPE=image/jpeg:https://saintala.org/wp-content/uploads/2024/11/Advent-1-200.jpg
END:VEVENT
BEGIN:VEVENT
DTSTART;TZID=America/Los_Angeles:20251130T110000
DTEND;TZID=America/Los_Angeles:20251130T130000
DTSTAMP:20260419T092052
CREATED:20251123T202504Z
LAST-MODIFIED:20251123T202701Z
UID:1917-1764500400-1764507600@saintala.org
SUMMARY:First Sunday of Advent
DESCRIPTION:Join us for Eucharist and social hour following the service. The Rev. John Watson\, Priest-in-Charge.
URL:https://saintala.org/event/first-sunday-of-advent/
LOCATION:St. Athanasius Church\, Echo Park\, 840 Echo Park Ave.\, Los Angeles\, CA\, 90026\, United States
CATEGORIES:Advent,Sunday Services
ATTACH;FMTTYPE=image/jpeg:https://saintala.org/wp-content/uploads/2024/11/Advent-1-200.jpg
END:VEVENT
END:VCALENDAR